BEGIN:VCALENDAR
VERSION:2.0
PRODID:-//Squarespace Inc/Squarespace 6//v6//EN
BEGIN:VEVENT
UID:5d9566fbd183af03dd8b5ff3@squarespace.com
DTSTAMP:20191003T031613Z
DTSTART:20190809T230000Z
DTEND:20190810T035900Z
SUMMARY:Samba Social Club - Gold Celebration
GEO:-34.926556;138.606681
LOCATION:The Jade\, 142-160 Flinders Street\, Adelaide\, SA\, 5000\, Austra
 lia
END:VEVENT
END:VCALENDAR
