BEGIN:VCALENDAR
VERSION:2.0
PRODID:-//Squarespace Inc/Squarespace 6//v6//EN
BEGIN:VEVENT
UID:5d636bb66b8dc60001a11d57@squarespace.com
DTSTAMP:20190826T052945Z
DTSTART:20190901T000000Z
DTEND:20190901T033000Z
SUMMARY:Ethanol Blend w / The Upstreamers &amp\; Sam Lavers
GEO:-34.926556;138.606681
LOCATION:The Jade Adl\, 142-150 Flinders Street\, Adelaide\, SA\, 5000\, Au
 stralia
END:VEVENT
END:VCALENDAR
