BEGIN:VCALENDAR
VERSION:2.0
PRODID:-//Squarespace Inc/Squarespace 6//v6//EN
BEGIN:VEVENT
UID:5cf79534174186000154d5c9@squarespace.com
DTSTAMP:20190605T102300Z
DTSTART:20190713T000000Z
DTEND:20190713T035900Z
SUMMARY:A Lyric 4 ur Thought
GEO:-34.926556;138.606681
LOCATION:The Jade\, 142-160 Flinders Street\, Adelaide\, SA\, 5000\, Austra
 lia
END:VEVENT
END:VCALENDAR
