BEGIN:VCALENDAR
VERSION:2.0
PRODID:-//Squarespace Inc/Squarespace 6//v6//EN
BEGIN:VEVENT
UID:5cf79af09fcc4b0001c0e02e@squarespace.com
DTSTAMP:20190605T103845Z
DTSTART:20190531T001500Z
DTEND:20190531T024500Z
SUMMARY:Velvet Void
GEO:-34.926556;138.606681
LOCATION:The Jade\, 142-160 Flinders Street\, Adelaide\, SA\, 5000\, Austra
 lia
END:VEVENT
END:VCALENDAR
