BEGIN:VCALENDAR
VERSION:2.0
PRODID:-//Squarespace Inc/Squarespace 6//v6//EN
BEGIN:VEVENT
UID:5d956381e6a11c317493d633@squarespace.com
DTSTAMP:20191003T025943Z
DTSTART:20191123T003000Z
DTEND:20191123T043000Z
SUMMARY:Over and Out - Wodger That!
GEO:-34.926556;138.606681
LOCATION:The Jade\, 142-160 Flinders Street\, Adelaide\, SA\, 5000\, Austra
 lia
END:VEVENT
END:VCALENDAR
