BEGIN:VCALENDAR
VERSION:2.0
PRODID:-//Squarespace Inc/Squarespace 6//v6//EN
BEGIN:VEVENT
UID:5d955f36a6584d41e0aa1402@squarespace.com
DTSTAMP:20191003T024257Z
DTSTART:20191019T010000Z
DTEND:20191019T030000Z
SUMMARY:Isaac Thomas 'Slow Down' Single Launch
GEO:-34.926556;138.606681
LOCATION:The Jade\, 142-160 Flinders Street\, Adelaide\, SA\, 5000\, Austra
 lia
END:VEVENT
END:VCALENDAR
