BEGIN:VCALENDAR
VERSION:2.0
PRODID:-//Squarespace Inc/Squarespace 6//v6//EN
BEGIN:VEVENT
UID:5d955e84f1b8cc4d58ed2587@squarespace.com
DTSTAMP:20191003T023758Z
DTSTART:20191017T233000Z
DTEND:20191018T014500Z
SUMMARY:Back to School by Tenx9Adelaide
GEO:-34.926556;138.606681
LOCATION:The Jade\, 142-160 Flinders Street\, Adelaide\, SA\, 5000\, Austra
 lia
END:VEVENT
END:VCALENDAR
