BEGIN:VCALENDAR
VERSION:2.0
PRODID:-//Squarespace Inc/Squarespace 6//v6//EN
BEGIN:VEVENT
UID:5880970ebe6594efd284e439@squarespace.com
DTSTAMP:20170119T104133Z
DTSTART:20170122T003000Z
DTEND:20170122T043000Z
SUMMARY:Skastralia Day with Loonee Tunes and the Fistful of Trojans
END:VEVENT
END:VCALENDAR
