BEGIN:VCALENDAR
VERSION:2.0
PRODID:-//Squarespace Inc/Squarespace 6//v6//EN
BEGIN:VEVENT
UID:57ce22b759cc6804d190e2a6@squarespace.com
DTSTAMP:20160906T020244Z
DTSTART:20160910T010000Z
DTEND:20160912T034500Z
SUMMARY:Big Daddy's Discotheque\,  EP Launch with Nakatomi and RAYGUN
END:VEVENT
END:VCALENDAR
