BEGIN:VCALENDAR
VERSION:2.0
PRODID:-//Squarespace Inc/Squarespace 6//v6//EN
BEGIN:VEVENT
UID:57ce27c1e4fcb57e0d459568@squarespace.com
DTSTAMP:20160906T022146Z
DTSTART:20160918T000000Z
DTEND:20160918T035500Z
SUMMARY:Talk Like A Pirate Day Show
END:VEVENT
END:VCALENDAR
