BEGIN:VCALENDAR
VERSION:2.0
PRODID:-//Squarespace Inc/Squarespace 6//v6//EN
BEGIN:VEVENT
UID:57833112d2b857a8dd9b818d@squarespace.com
DTSTAMP:20160711T054025Z
DTSTART:20160807T180000Z
DTEND:20160808T200000Z
SUMMARY:Caramigo CD Launch
END:VEVENT
END:VCALENDAR
