BEGIN:VCALENDAR
VERSION:2.0
PRODID:-//Squarespace Inc/Squarespace 6//v6//EN
BEGIN:VEVENT
UID:57a341745016e15de7cc1ec1@squarespace.com
DTSTAMP:20160807T114955Z
DTSTART:20160828T000000Z
DTEND:20160828T020000Z
SUMMARY:Krystapinzch Reunion Show!
END:VEVENT
END:VCALENDAR
