BEGIN:VCALENDAR
VERSION:2.0
PRODID:-//Squarespace Inc/Squarespace 6//v6//EN
BEGIN:VEVENT
UID:57a34653414fb5660c3e52c5@squarespace.com
DTSTAMP:20160804T134332Z
DTSTART:20160820T010000Z
DTEND:20160820T034500Z
SUMMARY:Mind Remover CD Launch + Art Of Escape & Terminal zero
END:VEVENT
END:VCALENDAR
