BEGIN:VCALENDAR
VERSION:2.0
PRODID:-//Squarespace Inc/Squarespace 6//v6//EN
BEGIN:VEVENT
UID:57830fa7d1758e9af411d31a@squarespace.com
DTSTAMP:20160713T123846Z
DTSTART:20160715T230000Z
DTEND:20160716T010000Z
SUMMARY:Umbrella Music Festival: Billy The Tree with Cal Williams Jr
END:VEVENT
END:VCALENDAR
