BEGIN:VCALENDAR
VERSION:2.0
PRODID:-//Squarespace Inc/Squarespace 6//v6//EN
BEGIN:VEVENT
UID:57831aee414fb585ab3a5309@squarespace.com
DTSTAMP:20160711T043705Z
DTSTART:20160729T003000Z
DTEND:20160730T023000Z
SUMMARY:Umbrella Music Festival: Conchillia Video Launch + Kelly Menhennett 
END:VEVENT
END:VCALENDAR
