BEGIN:VCALENDAR
VERSION:2.0
PRODID:-//Squarespace Inc/Squarespace 6//v6//EN
BEGIN:VEVENT
UID:57833c8e37c581c34c7de299@squarespace.com
DTSTAMP:20160711T062943Z
DTSTART:20160722T000000Z
DTEND:20160723T030000Z
SUMMARY:Umbrella Music Festival: Local Revolution & Chris Finnen
END:VEVENT
END:VCALENDAR
