BEGIN:VCALENDAR
VERSION:2.0
PRODID:-//Squarespace Inc/Squarespace 6//v6//EN
BEGIN:VEVENT
UID:578313c915d5db8fe56c3cff@squarespace.com
DTSTAMP:20160711T043512Z
DTSTART:20160717T210000Z
DTEND:20160719T000000Z
SUMMARY:Umbrella Music Festival & Guitars In Bars: Fergus Maximus EP Launch 
 with Courtney Robb
END:VEVENT
END:VCALENDAR
