BEGIN:VCALENDAR
VERSION:2.0
PRODID:-//Squarespace Inc/Squarespace 6//v6//EN
BEGIN:VEVENT
UID:576b34ef579fb30cbde21b78@squarespace.com
DTSTAMP:20160623T011007Z
DTSTART:20160702T000000Z
DTEND:20160702T020000Z
SUMMARY:Mixtape momento
END:VEVENT
END:VCALENDAR
