BEGIN:VCALENDAR
VERSION:2.0
PRODID:-//Squarespace Inc/Squarespace 6//v6//EN
BEGIN:VEVENT
UID:574702a52fe131d4ab072193@squarespace.com
DTSTAMP:20160526T140633Z
DTSTART:20160619T233000Z
DTEND:20160620T003000Z
SUMMARY: Cabaret Fringe: A Case Of You: The Music of Joni Mitchell
END:VEVENT
END:VCALENDAR
