BEGIN:VCALENDAR
VERSION:2.0
PRODID:-//Squarespace Inc/Squarespace 6//v6//EN
BEGIN:VEVENT
UID:5747007d356fb0598a5e789f@squarespace.com
DTSTAMP:20160526T140036Z
DTSTART:20160618T010000Z
DTEND:20160620T033000Z
SUMMARY:The Dopamine Game CD Launch with Lost Woods and Not How It Sounds.
END:VEVENT
END:VCALENDAR
