BEGIN:VCALENDAR
VERSION:2.0
PRODID:-//Squarespace Inc/Squarespace 6//v6//EN
BEGIN:VEVENT
UID:5746f8f9356fb0598a5e3d42@squarespace.com
DTSTAMP:20160526T132629Z
DTSTART:20160528T010000Z
DTEND:20160528T030000Z
SUMMARY:Whiskey & Rhymes Farewell Show + Poppi
END:VEVENT
END:VCALENDAR
