BEGIN:VCALENDAR
VERSION:2.0
PRODID:-//Squarespace Inc/Squarespace 6//v6//EN
BEGIN:VEVENT
UID:56df9deee32140f2a6a59a30@squarespace.com
DTSTAMP:20160623T011213Z
DTSTART:20160703T180000Z
DTEND:20160703T200000Z
SUMMARY:Adelaide Ladies Comic Club - Monthly Meet Up!
END:VEVENT
END:VCALENDAR
