BEGIN:VCALENDAR
VERSION:2.0
PRODID:-//Squarespace Inc/Squarespace 6//v6//EN
BEGIN:VEVENT
UID:56d7f17b86db43c1b3432b29@squarespace.com
DTSTAMP:20160303T081243Z
DTSTART:20160306T010000Z
DTEND:20160306T045500Z
SUMMARY:FRINGE: Green Roots
END:VEVENT
END:VCALENDAR
