BEGIN:VCALENDAR
VERSION:2.0
PRODID:-//Squarespace Inc/Squarespace 6//v6//EN
BEGIN:VEVENT
UID:56d7ef4659827e4e235840f8@squarespace.com
DTSTAMP:20160303T080134Z
DTSTART:20160305T180000Z
DTEND:20160305T190000Z
SUMMARY:FRINGE: Bubble Show with Milkshake
END:VEVENT
END:VCALENDAR
