BEGIN:VCALENDAR
VERSION:2.0
PRODID:-//Squarespace Inc/Squarespace 6//v6//EN
BEGIN:VEVENT
UID:56d7ef694d088e0467f7fa52@squarespace.com
DTSTAMP:20160303T080209Z
DTSTART:20160305T073000Z
DTEND:20160305T083000Z
SUMMARY:FRINGE: Bubble Show with Milkshake
END:VEVENT
END:VCALENDAR
