BEGIN:VCALENDAR
VERSION:2.0
PRODID:-//Squarespace Inc/Squarespace 6//v6//EN
BEGIN:VEVENT
UID:56f2139fe32140bf370bf9fd@squarespace.com
DTSTAMP:20160323T035613Z
DTSTART:20160407T000000Z
DTEND:20160407T030000Z
SUMMARY:Oh Pep! (vic)
END:VEVENT
END:VCALENDAR
