BEGIN:VCALENDAR
VERSION:2.0
PRODID:-//Squarespace Inc/Squarespace 6//v6//EN
BEGIN:VEVENT
UID:582b09cebebafbc7a239abf2@squarespace.com
DTSTAMP:20161115T131636Z
DTSTART:20161204T190000Z
DTEND:20161204T210000Z
SUMMARY:Music For Lives - Charity Singing Event
END:VEVENT
END:VCALENDAR
