BEGIN:VCALENDAR
VERSION:2.0
PRODID:-//Squarespace Inc/Squarespace 6//v6//EN
BEGIN:VEVENT
UID:57fd88472994ca5218b7b8aa@squarespace.com
DTSTAMP:20161013T121441Z
DTSTART:20161029T003000Z
DTEND:20161029T033000Z
SUMMARY:Six-1-Six\, Kitchen Witch & Special Guest
END:VEVENT
END:VCALENDAR
